BEGIN:VCALENDAR
VERSION:2.0
PRODID:spatie/icalendar-generator
DESCRIPTION:Events from Hoala Kealakekua Nui
X-WR-CALDESC:Events from Hoala Kealakekua Nui
REFRESH-INTERVAL;VALUE=DURATION:PT1440M
X-PUBLISHED-TTL:PT1440M
BEGIN:VTIMEZONE
TZID:Etc/GMT+10
BEGIN:STANDARD
DTSTART:20230929T090000Z
TZOFFSETFROM:-1000
TZOFFSETTO:-1000
END:STANDARD
END:VTIMEZONE
BEGIN:VTIMEZONE
TZID:UTC
BEGIN:STANDARD
DTSTART:20250723T121450Z
TZOFFSETFROM:+0000
TZOFFSETTO:+0000
END:STANDARD
END:VTIMEZONE
BEGIN:VEVENT
UID:12-7
DTSTAMP:20260419T121450Z
SUMMARY:Kanu Ko’a Coral Propagation Day
LOCATION:
ORGANIZER;CN=Elijah:MAILTO:elijah@primilink.com
DTSTART;TZID=Etc/GMT+10:20240625T090000
DTEND;TZID=Etc/GMT+10:20240625T120000
X-ALT-DESC;FMTTYPE=TEXT/HTML:Help fragment corals of opportunity for restor
 ation plots and the coal nursery table. Opportunities for involvement incl
 ude set up\, coral fragmenting\, data collection\, and clean up. Sign up h
 ere: https://forms.gle/aWHXyeYfvtTqKBJr5 &amp;nbsp\;
CATEGORIES:General
URL;VALUE=URI:https://kealakekua.org/mc-events/kanu-koa-coral-propagation-d
 ay-3/
METHOD:PUBLISH
END:VEVENT
END:VCALENDAR